BEGIN:VCALENDAR
VERSION:2.0
PRODID:-//Cultureel Centrum Stompe Toren - ECPv6.1.3//NONSGML v1.0//EN
CALSCALE:GREGORIAN
METHOD:PUBLISH
X-ORIGINAL-URL:https://2023.cultureelcentrumstompetoren.nl
X-WR-CALDESC:Evenementen voor Cultureel Centrum Stompe Toren
REFRESH-INTERVAL;VALUE=DURATION:PT1H
X-Robots-Tag:noindex
X-PUBLISHED-TTL:PT1H
BEGIN:VTIMEZONE
TZID:Europe/Amsterdam
BEGIN:DAYLIGHT
TZOFFSETFROM:+0100
TZOFFSETTO:+0200
TZNAME:CEST
DTSTART:20230326T010000
END:DAYLIGHT
BEGIN:STANDARD
TZOFFSETFROM:+0200
TZOFFSETTO:+0100
TZNAME:CET
DTSTART:20231029T010000
END:STANDARD
END:VTIMEZONE
BEGIN:VEVENT
DTSTART;TZID=Europe/Amsterdam:20230730T140000
DTEND;TZID=Europe/Amsterdam:20230730T160000
DTSTAMP:20260420T055445
CREATED:20230720T151905Z
LAST-MODIFIED:20230720T151905Z
UID:82-1690725600-1690732800@2023.cultureelcentrumstompetoren.nl
SUMMARY:30 juli 2023 Concert | Conservatorium van Amsterdam
DESCRIPTION:Studenten van het Conservatorium van Amsterdam\, Amsterdamse Hogeschool voor de Kunsten\, Sweelinck Academie Nationale opleiding voor jong toptalent komen naar het kerkje. \nOok is er een speciaal optreden van pianist Florin Mantale. De Roemeense pianist wordt omschreven als een van de meest veelbelovende pianisten van zijn generatie. Hij studeerde in 2021 af aan het Conservatorium van Amsterdam onder de uitzonderlijke leiding van Naum Grubert. \nEen donatie voor dit evenement is welkom.
URL:https://2023.cultureelcentrumstompetoren.nl/agenda/30-juli-2023-concert-conservatorium-van-amsterdam/
END:VEVENT
BEGIN:VEVENT
DTSTART;TZID=Europe/Amsterdam:20230730T120000
DTEND;TZID=Europe/Amsterdam:20230730T140000
DTSTAMP:20260420T055445
CREATED:20230721T092227Z
LAST-MODIFIED:20230721T092227Z
UID:127-1690718400-1690725600@2023.cultureelcentrumstompetoren.nl
SUMMARY:30 juli 2023 Expositie | Wiepke Poldervaart
DESCRIPTION:Wiepke Poldervaart (1960) was van 1984 artistiek leider van theatergroep Trajekt. \nZe maakte eigenzinnige voorstellingen die de aandacht trokken op alle Nederlandse grote festivals en over de grens o.a. op de wereld tentoonstelling in Sevilla en Japan. Sinds 1991 schildert ze en maakt ze ruimtelijk werk. \nIn 2006 kwam haar eerste boek uit Pier een verhaal met olieverfschilderijen. Wiep is haar tweede boek een gelimiteerde editie. In de Stompetoren te zien\, met een expositie van haar werk.
URL:https://2023.cultureelcentrumstompetoren.nl/agenda/30-juli-2023-expositie-wiepke-poldervaart/
END:VEVENT
BEGIN:VEVENT
DTSTART;TZID=Europe/Amsterdam:20230723T120000
DTEND;TZID=Europe/Amsterdam:20230723T160000
DTSTAMP:20260420T055445
CREATED:20230721T092137Z
LAST-MODIFIED:20230721T092137Z
UID:125-1690113600-1690128000@2023.cultureelcentrumstompetoren.nl
SUMMARY:23 juli 2023 Expositie | Wiepke Poldervaart
DESCRIPTION:Wiepke Poldervaart (1960) was van 1984 artistiek leider van theatergroep Trajekt. \nZe maakte eigenzinnige voorstellingen die de aandacht trokken op alle Nederlandse grote festivals en over de grens o.a. op de wereld tentoonstelling in Sevilla en Japan. Sinds 1991 schildert ze en maakt ze ruimtelijk werk. \nIn 2006 kwam haar eerste boek uit Pier een verhaal met olieverfschilderijen. Wiep is haar tweede boek een gelimiteerde editie. In de Stompetoren te zien\, met een expositie van haar werk.
URL:https://2023.cultureelcentrumstompetoren.nl/agenda/23-juli-2023-expositie-wiepke-poldervaart/
END:VEVENT
BEGIN:VEVENT
DTSTART;TZID=Europe/Amsterdam:20230716T120000
DTEND;TZID=Europe/Amsterdam:20230716T160000
DTSTAMP:20260420T055445
CREATED:20230721T092032Z
LAST-MODIFIED:20230721T092032Z
UID:123-1689508800-1689523200@2023.cultureelcentrumstompetoren.nl
SUMMARY:16 juli 2023 Expositie | Wiepke Poldervaart
DESCRIPTION:Wiepke Poldervaart (1960) was van 1984 artistiek leider van theatergroep Trajekt. \nZe maakte eigenzinnige voorstellingen die de aandacht trokken op alle Nederlandse grote festivals en over de grens o.a. op de wereld tentoonstelling in Sevilla en Japan. Sinds 1991 schildert ze en maakt ze ruimtelijk werk. \nIn 2006 kwam haar eerste boek uit Pier een verhaal met olieverfschilderijen. Wiep is haar tweede boek een gelimiteerde editie. In de Stompetoren te zien\, met een expositie van haar werk.
URL:https://2023.cultureelcentrumstompetoren.nl/agenda/16-juli-2023-expositie-wiepke-poldervaart/
END:VEVENT
BEGIN:VEVENT
DTSTART;TZID=Europe/Amsterdam:20230709T120000
DTEND;TZID=Europe/Amsterdam:20230709T160000
DTSTAMP:20260420T055445
CREATED:20230721T091755Z
LAST-MODIFIED:20230721T091839Z
UID:119-1688904000-1688918400@2023.cultureelcentrumstompetoren.nl
SUMMARY:9 juli 2023 Expositie | Wiepke Poldervaart
DESCRIPTION:Wiepke Poldervaart (1960) was van 1984 artistiek leider van theatergroep Trajekt. \nZe maakte eigenzinnige voorstellingen die de aandacht trokken op alle Nederlandse grote festivals en over de grens o.a. op de wereld tentoonstelling in Sevilla en Japan. Sinds 1991 schildert ze en maakt ze ruimtelijk werk. \nIn 2006 kwam haar eerste boek uit Pier een verhaal met olieverfschilderijen. Wiep is haar tweede boek een gelimiteerde editie. In de Stompetoren te zien\, met een expositie van haar werk.
URL:https://2023.cultureelcentrumstompetoren.nl/agenda/9-juli-2023-expositie-wiepke-poldervaart/
END:VEVENT
BEGIN:VEVENT
DTSTART;TZID=Europe/Amsterdam:20230702T120000
DTEND;TZID=Europe/Amsterdam:20230702T160000
DTSTAMP:20260420T055445
CREATED:20230720T143457Z
LAST-MODIFIED:20230721T091924Z
UID:61-1688299200-1688313600@2023.cultureelcentrumstompetoren.nl
SUMMARY:2 juli 2023 Expositie | Wiepke Poldervaart
DESCRIPTION:Wiepke Poldervaart (1960) was van 1984 artistiek leider van theatergroep Trajekt. \nZe maakte eigenzinnige voorstellingen die de aandacht trokken op alle Nederlandse grote festivals en over de grens o.a. op de wereld tentoonstelling in Sevilla en Japan. Sinds 1991 schildert ze en maakt ze ruimtelijk werk. \nIn 2006 kwam haar eerste boek uit Pier een verhaal met olieverfschilderijen. Wiep is haar tweede boek een gelimiteerde editie. In de Stompetoren te zien\, met een expositie van haar werk.
URL:https://2023.cultureelcentrumstompetoren.nl/agenda/2-9-16-23-30-juli-2023-expositie-wiepke-poldervaart-iedere-zondag/
END:VEVENT
END:VCALENDAR